View In:
ArcGIS JavaScript
ArcGIS Online Map Viewer
ArcGIS Earth
ArcGIS Pro
Service Description: <div style='text-align:Left;font-size:12pt'><p><span>Bản đồ hành chính Việt Nam 2025 sau sắp xếp ĐVHC theo mô hình chính quyền địa phương 02 cấp</span></p></div>
Map Name: BanDoHanhChinhVietNam
Legend
All Layers and Tables
Layers:
Description: Bản đồ hành chính Việt Nam 2025 sau sắp xếp ĐVHC theo mô hình chính quyền địa phương 02 cấp
Service Item Id: ebbe82360bec449a89ba49f83c6a8467
Copyright Text: DOSMVN
Spatial Reference:
102100
(3857)
LatestVCSWkid(0)
Single Fused Map Cache: true
Tile Info:
- Height: 256
- Width: 256
- DPI: 96
-
Levels of Detail: 24
-
Level ID: 1
[ Start Tile, End Tile ]
- Resolution: 78271.5169639999
- Scale: 2.95828763795777E8
-
Level ID: 2
[ Start Tile, End Tile ]
- Resolution: 39135.7584820001
- Scale: 1.47914381897889E8
-
Level ID: 3
[ Start Tile, End Tile ]
- Resolution: 19567.8792409999
- Scale: 7.3957190948944E7
-
Level ID: 4
[ Start Tile, End Tile ]
- Resolution: 9783.93962049996
- Scale: 3.6978595474472E7
-
Level ID: 5
[ Start Tile, End Tile ]
- Resolution: 4891.96981024998
- Scale: 1.8489297737236E7
- Format: PNG32
- Compression Quality: 0.0
- Origin: X: -2.0037508342787E7
Y: 2.0037508342787E7
- Spatial Reference: 102100
(3857)
LatestVCSWkid(0)
Storage Info:
- Storage Format: esriMapCacheStorageModeCompactV2
- Packet Size: 128
Initial Extent:
XMin: 1.1366043248396805E7
YMin: 2173535.063116989
XMax: 1.2066206427488985E7
YMax: 2678019.449799128
Spatial Reference: 102100
(3857)
LatestVCSWkid(0)
Full Extent:
XMin: 6679169.84380252
YMin: -2746650.113592535
XMax: 1.6697923243116353E7
YMax: 4946984.118512284
Spatial Reference: 102100
(3857)
LatestVCSWkid(0)
Units: esriMeters
Supported Image Format Types: PNG32,PNG24,PNG,JPG,DIB,TIFF,EMF,PS,PDF,GIF,SVG,SVGZ,BMP
Document Info:
Title: Bản đồ hành chính Việt Nam 2025
Author:
Comments: Bản đồ hành chính Việt Nam 2025 sau sắp xếp ĐVHC theo mô hình chính quyền địa phương 02 cấp
Subject: Bản đồ hành chính Việt Nam 2025 sau sắp xếp ĐVHC
Category:
Keywords: BĐHCVN
AntialiasingMode: Fast
TextAntialiasingMode: Force
Supports Dynamic Layers: false
Resampling: false
MaxRecordCount: 20000
MaxSelectionCount: 2000
MaxImageHeight: 4096
MaxImageWidth: 4096
Supported Query Formats: JSON, geoJSON, PBF
Supports Query Data Elements: true
Min Scale: 5.91657527591555E8
Max Scale: 2256.994353
Min LOD: 0
Max LOD: 14
Supports Datum Transformation: true
Child Resources:
Info
Supported Operations:
Export Map
QueryLegends
Return Updates